BEGIN:VCALENDAR
VERSION:2.0
PRODID:-//Pinelands Wrestling Booster Club - ECPv6.15.15//NONSGML v1.0//EN
CALSCALE:GREGORIAN
METHOD:PUBLISH
X-WR-CALNAME:Pinelands Wrestling Booster Club
X-ORIGINAL-URL:https://pinelandswrestling.com
X-WR-CALDESC:Events for Pinelands Wrestling Booster Club
REFRESH-INTERVAL;VALUE=DURATION:PT1H
X-Robots-Tag:noindex
X-PUBLISHED-TTL:PT1H
BEGIN:VTIMEZONE
TZID:America/New_York
BEGIN:DAYLIGHT
TZOFFSETFROM:-0500
TZOFFSETTO:-0400
TZNAME:EDT
DTSTART:20200308T070000
END:DAYLIGHT
BEGIN:STANDARD
TZOFFSETFROM:-0400
TZOFFSETTO:-0500
TZNAME:EST
DTSTART:20201101T060000
END:STANDARD
BEGIN:DAYLIGHT
TZOFFSETFROM:-0500
TZOFFSETTO:-0400
TZNAME:EDT
DTSTART:20210314T070000
END:DAYLIGHT
BEGIN:STANDARD
TZOFFSETFROM:-0400
TZOFFSETTO:-0500
TZNAME:EST
DTSTART:20211107T060000
END:STANDARD
BEGIN:DAYLIGHT
TZOFFSETFROM:-0500
TZOFFSETTO:-0400
TZNAME:EDT
DTSTART:20220313T070000
END:DAYLIGHT
BEGIN:STANDARD
TZOFFSETFROM:-0400
TZOFFSETTO:-0500
TZNAME:EST
DTSTART:20221106T060000
END:STANDARD
BEGIN:DAYLIGHT
TZOFFSETFROM:-0500
TZOFFSETTO:-0400
TZNAME:EDT
DTSTART:20230312T070000
END:DAYLIGHT
BEGIN:STANDARD
TZOFFSETFROM:-0400
TZOFFSETTO:-0500
TZNAME:EST
DTSTART:20231105T060000
END:STANDARD
END:VTIMEZONE
BEGIN:VEVENT
DTSTART;TZID=America/New_York:20220418T180000
DTEND;TZID=America/New_York:20220418T200000
DTSTAMP:20260421T105950
CREATED:20220407T205927Z
LAST-MODIFIED:20220407T211205Z
UID:1404-1650304800-1650312000@pinelandswrestling.com
SUMMARY:Pinelands Wrestling Banquet Dinner
DESCRIPTION:Pinelands’ annual awards dinner banquet will be held at the American Legion Post 493 in Mystic Island at 6:00 PM. \nDATE: April 18th\, 2022\nTIME: 6:00 PM\nRSVP by 4/12\n\nPlease text or email Jovan or Amy to RSVP. \nPayment will be accepted at the door via cash or Venmo. \nWrestlers\, coaches\, and managers are welcome and at no charge. \nThe American Legion Post 493’s catering service will serve “All American” slowly “cooked to perfection” pulled pork\, the cheesiest mac and cheese\, authentic Italian Chicken Francese\, and Penne Vodka. \nThe cost will be $12 per person for family and friends. \nAll are welcome to come and join us to celebrate our Pinelands wrestlers. \nAnd yes\, there will be a cash bar open for adults 21 and over.
URL:https://pinelandswrestling.com/event/pinelands-wrestling-banquet-dinner/
LOCATION:American Legion Post 493\, 420 Radio Road\, Little Egg Harbor\, NJ\, 08087\, United States
ATTACH;FMTTYPE=image/png:https://pinelandswrestling.com/wp-content/uploads/2022/04/wrestling-banquet-2022-01-01-1.png
END:VEVENT
BEGIN:VEVENT
DTSTART;TZID=America/New_York:20220208T170000
DTEND;TZID=America/New_York:20220208T190000
DTSTAMP:20260421T105950
CREATED:20220207T204253Z
LAST-MODIFIED:20220207T204311Z
UID:1381-1644339600-1644346800@pinelandswrestling.com
SUMMARY:Pinelands vs Barnegat Wrestling at Home
DESCRIPTION:Pinelands will be hosting Barnegat at the high school for a wrestling match. \nPinelands HS will also be doing a sports marketing night to promote our event\, give out prizes and t-shirts. \nJV will start at 5:00 PM \nVarsity will start at 6:00 PM \n 
URL:https://pinelandswrestling.com/event/pinelands-vs-barnegat-wrestling-at-home-2/
LOCATION:Pinelands Regional High School\, 590 Nugentown Rd\, Little Egg Harbor Township\, NJ\, 08087\, United States
ATTACH;FMTTYPE=image/jpeg:https://pinelandswrestling.com/wp-content/uploads/2022/02/Pinelands-Wrestling-2022-web.jpg
END:VEVENT
BEGIN:VEVENT
DTSTART;TZID=America/New_York:20220205T090000
DTEND;TZID=America/New_York:20220205T140000
DTSTAMP:20260421T105950
CREATED:20220205T002237Z
LAST-MODIFIED:20220205T002237Z
UID:1374-1644051600-1644069600@pinelandswrestling.com
SUMMARY:Wrestling Quad: Donovan\, Shore\, Monmouth @ Monmouth Regional Regional HS
DESCRIPTION:Pinelands High School Regional Wrestling team will head to Monmouth Regional High School in Tinton Falls to face off with Donovan Catholic\, Shore Regional\, and Monmouth. \nPlease bring your mask. \nA concession stand will be available. \nThe action starts at 9:00 AM. \nPinelands Wrestlers should get to the school at 6:15 AM. \nMonmouth Regional High School\n1 Norman J. Field Way\, Tinton Falls\, NJ 07724
URL:https://pinelandswrestling.com/event/wrestling-quad-donovan-shore-monmouth-monmouth-regional-regional-hs/
LOCATION:Monmouth Regional High School\, 1 Norman J. Field Way\, Tinton Falls\, NJ\, 07724\, United States
ATTACH;FMTTYPE=image/jpeg:https://pinelandswrestling.com/wp-content/uploads/2022/02/Mateo-Mena-Over-Point-Boro-2022.jpg
END:VEVENT
BEGIN:VEVENT
DTSTART;TZID=America/New_York:20220122T090000
DTEND;TZID=America/New_York:20220122T150000
DTSTAMP:20260421T105950
CREATED:20220121T162607Z
LAST-MODIFIED:20220121T162607Z
UID:1314-1642842000-1642863600@pinelandswrestling.com
SUMMARY:Pinelands Wrestling Quad at Home
DESCRIPTION:Pinelands will be hosting a wrestling quad at home with Keansburg\, Hammonton\, and Central Regional. \nThe action starts at 9:oo AM. \nSpectators will be limited to Families/Guardians/Immediate families. \nPlease wear a mask before entering the building. \nWe will have a concession stand available for spectators and wrestlers. \n\nBagels\nCoffee\nPizza\nHot Dogs\nSnacks\nDrink Varieties\n\nParents\, please help with the concession. We will rotate out parents when their kid is up to wrestle. \nPlease check out our Facebook page for any changes or updates. \n 
URL:https://pinelandswrestling.com/event/pinelands-wrestling-quad-at-home/
LOCATION:Pinelands Regional High School\, 590 Nugentown Rd\, Little Egg Harbor Township\, NJ\, 08087\, United States
ATTACH;FMTTYPE=image/jpeg:https://pinelandswrestling.com/wp-content/uploads/2022/01/Gavin-Wagner-Pinelands-Wrestling-web.jpg
END:VEVENT
BEGIN:VEVENT
DTSTART;TZID=America/New_York:20220121T173000
DTEND;TZID=America/New_York:20220121T193000
DTSTAMP:20260421T105950
CREATED:20220121T161205Z
LAST-MODIFIED:20220121T161205Z
UID:1311-1642786200-1642793400@pinelandswrestling.com
SUMMARY:Pineland vs Toms River East Wrestling at Home
DESCRIPTION:Pinelands Wrestling is at home vs Toms River East. \nPlease wear your mask. \nSpectators: Family/Guardians/Immediate Family \n 
URL:https://pinelandswrestling.com/event/pineland-vs-toms-river-east-wrestling-at-home/
LOCATION:Pinelands Regional High School\, 590 Nugentown Rd\, Little Egg Harbor Township\, NJ\, 08087\, United States
ATTACH;FMTTYPE=image/jpeg:https://pinelandswrestling.com/wp-content/uploads/2022/01/Mason-Livio-Pinelands-Wrestling-Web.jpg
END:VEVENT
BEGIN:VEVENT
DTSTART;TZID=America/New_York:20220115T090000
DTEND;TZID=America/New_York:20220115T170000
DTSTAMP:20260421T105950
CREATED:20220115T014849Z
LAST-MODIFIED:20220115T015300Z
UID:1302-1642237200-1642266000@pinelandswrestling.com
SUMMARY:Vineland Wrestling Quad - Audubon\, Moorestown\, & Pinelands
DESCRIPTION:We will be at Vineland High School\, 2880 E. Chestnut Avenue\, Vineland\, NJ 08361 Gym – South Building wrestling quad against Audubon\, Moorestown\, and Vineland. \nPlease beware of the regulations by Vineland athletics. \n\nThe concession stand will no longer be open for home athletic events. There is a Wawa right around the corner from the high school.\nWe will operate our athletic facilities at a reduced capacity. (50%)\nVisiting team student-athletes will be permitted two guests\, Vineland High School Student-Athletes will be permitted four guests. Vineland Student-Athletes will be given four tickets to take home the day prior to a contest.\nSpectators’ temperature will be checked as they enter the gym. Any spectator with a temperature of 100.3 or above will not be permitted to enter the facility.\n\nLocation: 2880 E Chestnut Ave\, Vineland\, NJ 08361 \nTime: 9:00 AM \n 
URL:https://pinelandswrestling.com/event/vineland-wrestling-quad-audubon-moorestown-pinelands/
LOCATION:Vineland Regional High School\, 2880 E Chestnut Ave\, Vineland\, NJ\, 08361\, United States
ATTACH;FMTTYPE=image/jpeg:https://pinelandswrestling.com/wp-content/uploads/2022/01/Mason-Livio-Pinelands-Wrestling-scaled.jpg
END:VEVENT
BEGIN:VEVENT
DTSTART;TZID=America/New_York:20220112T163000
DTEND;TZID=America/New_York:20220112T190000
DTSTAMP:20260421T105950
CREATED:20220112T004201Z
LAST-MODIFIED:20220112T005044Z
UID:1296-1642005000-1642014000@pinelandswrestling.com
SUMMARY:Pinelands vs Jackson Liberty Wrestling Match
DESCRIPTION:Pinelands will be wrestling at Jackson Liberty High School. \nJunior Varsity will start at 4:30 and then Varsity right afterward. \nPlease wear a mask when entering the building. \nUnfortunately\, we will be implementing the following procedures at athletic events\, effective immediately: \n\n1) Only player parents/guardians and siblings (including cheerleaders)\, and coach immediate families will be admitted to our events from both teams.\n2) No student spectators\n3) All spectators must wear masks.\n4) No food or drink in the gyms.\n\nCLICK HERE FOR GOOGLE MAPS DIRECTIONS.
URL:https://pinelandswrestling.com/event/pinelands-vs-jackson-liberty-wrestling-match/
LOCATION:Jackson Liberty High School\, 125 N Hope Chapel Rd\, Jackson Township\, NJ\, 08527\, United States
ATTACH;FMTTYPE=image/jpeg:https://pinelandswrestling.com/wp-content/uploads/2022/01/pinelands-wrestling-mateo-mena.jpg
END:VEVENT
BEGIN:VEVENT
DTSTART;TZID=America/New_York:20220105T170000
DTEND;TZID=America/New_York:20220105T193000
DTSTAMP:20260421T105950
CREATED:20220102T163630Z
LAST-MODIFIED:20220102T163630Z
UID:1292-1641402000-1641411000@pinelandswrestling.com
SUMMARY:Pinelands vs Barnegat - Wrestling at Home
DESCRIPTION:Pinelands high school wrestling will be at home versus Barnegat. \nJunior varsity starts at 5:00 PM. \nVarsity starts at 6:00 PM. \nPlease be aware that if junior varsity finishes early then the varsity match will be earlier. \nPlease wear a mask and note any additional details when entering the building. \n590 Nugentown Rd\, Little Egg Harbor Township\, NJ 08087
URL:https://pinelandswrestling.com/event/pinelands-vs-barnegat-wrestling-at-home/
LOCATION:Pinelands Regional High School\, 590 Nugentown Rd\, Little Egg Harbor Township\, NJ\, 08087\, United States
ATTACH;FMTTYPE=image/jpeg:https://pinelandswrestling.com/wp-content/uploads/2020/11/f-Pinelands-Wrestling-5.jpg
END:VEVENT
BEGIN:VEVENT
DTSTART;TZID=America/New_York:20211230T090000
DTEND;TZID=America/New_York:20211230T180000
DTSTAMP:20260421T105950
CREATED:20211229T233342Z
LAST-MODIFIED:20211229T235311Z
UID:1286-1640854800-1640887200@pinelandswrestling.com
SUMMARY:Marinelli Wrestling Tournament Wrestling Tournament
DESCRIPTION:The Pinelands wrestlers will meet at the school at 6:00 AM 12/30/2021. \nThe wrestling tournament starts at 9:00 AM. JV starts at 9:00 AM and Varsity starts around 10:00 AM. \nPlease wear your mask before entering the building. \nUnfortunately\, there will be no concession stands(no food) at the tournament. \nCLICK HERE FOR DIRECTIONS
URL:https://pinelandswrestling.com/event/marinelli-wrestling-tournament-wrestling-tournament/
LOCATION:Egg Harbor Township High School\, 24 High School Dr\, Egg Harbor Township\, NJ\, 08234\, United States
ATTACH;FMTTYPE=image/jpeg:https://pinelandswrestling.com/wp-content/uploads/2020/11/f-Pinelands-Wrestling-6.jpg
END:VEVENT
BEGIN:VEVENT
DTSTART;TZID=America/New_York:20211218T100000
DTEND;TZID=America/New_York:20211218T160000
DTSTAMP:20260421T105950
CREATED:20211202T014404Z
LAST-MODIFIED:20211218T043231Z
UID:1269-1639821600-1639843200@pinelandswrestling.com
SUMMARY:Gateway Tournament
DESCRIPTION:Gateway Gator Invitational – 10 a.m. (Lower Cape May \, Buena \, Vineland\, Winslow \, Maple Shade \, Lindwood\, Palmyra \, Pinelands\, Red Bank Regional & Gateway) \nATTENTION: Masks are a must\, except for the cafeteria.\nAdults $6\, Children & Seniors $3\, and Kids under 3 FREE. \nGateway Tournament Wrestling\nGateway Regional High School\n775 Tanyard Rd\,\nWoodbury Heights\, NJ 08096\nPhone 856-848-8200 | Fax 856-251-9813 \nPhone: 856-848-8200\nEmail: Iraba@gatewayhs.com\nFrom the North:\nRoute 295 South\, Exit 25A- WESTVILLE/DEPTFORD/ROUTE 47\nSOUTH South on Route 47 – 2.2 miles\nAt 3rd Traffic Light\, Turn Right (Cooper Street) (Exxon & Dunkin Donuts on corner).\n4th Street on left – Highland Ave.- sign for Johnson Library and NJ Motor Vehicle Inspection Station.\nFollow Highland Ave. for 1.1 miles to light at Tanyard Rd.\nTurn Left onto Tanyard Rd.- MV Stations is on the right and Gateway Regional High School is next to it.\nAdministrative offices are across the street from the school. \nFrom the South:\n295 North to Exit 21 – Route 534 National Park/Woodbury\nAt the bottom of the ramp\, TURN RIGHT – Towards Woodbury\n2nd Light (approx. 2 miles) Turn RIGHT – RT. 553\nAt Next Light (563) turn Left (Golf Course and Gas Station on left)\nGateway Regional High School is one mile down on the Right. \nFrom the East:\nAC Expressway to RT. 42\nGet off Deptford/Woodbury Exit (Rt. 644)\nAt bottom of the ramp\, turn Left (Deptford Mall on Left)\nContinue straight on Rt. 544 to a ‘T’ Intersection.\nTurn RIGHT onto Cooper Street\, go through the next intersection of Cooper and Rt. 47.\nJust before going over the overpass\, turn LEFT onto Highland Ave.\nFollow Highland Ave. for 1.1 miles to light at Tanyard Rd.\nTurn Left onto Tanyard Rd.- MV Stations is on the right and Gateway Regional High School is next to it.\nAdministrative offices are across the street from the school. \nFrom ROUTE 55:\nRoute 55 North to Exit 56B – Rt. 47 North\nAt the second traffic light turn LEFT.\nAt the next traffic light turn RIGHT (Convenience store on right)\nFollow Tanyard Rd. for 1.5 miles.\nGateway Regional will be on your left. \nPhoto courtesy Joe Warner | For NJ Advance Media\nhttps://www.nj.com/highschoolsports/2020/03/bcsl-wrestling-all-stars-2019-2020.html
URL:https://pinelandswrestling.com/event/gateway-tournament/
LOCATION:Gateway Regional High School\, 775 Tanyard Road\, Woodbury Heights\, NJ\, 08096\, United States
ATTACH;FMTTYPE=image/jpeg:https://pinelandswrestling.com/wp-content/uploads/2021/12/gateway-tournament.jpg
END:VEVENT
END:VCALENDAR